BEGIN:VCALENDAR
VERSION:2.0
PRODID:-//Tukios.com/
BEGIN:VEVENT
UID:054c232b-907d-4fc0-94b8-f55bffd24cb7@www.cataldofuneralhome.com
DTSTAMP:20260421T225223Z
DTSTART:20260428T210000Z
DTEND:20260428T230000Z
SUMMARY:Visitation
DESCRIPTION:
URL:https://www.cataldofuneralhome.com/obituaries/barbara-stubbs
LOCATION:Cataldo Funeral Chapel 160 East 4th Street  Garner IA 50438
GEO:43.101412;-93.6012896
END:VEVENT
END:VCALENDAR