BEGIN:VCALENDAR
VERSION:2.0
PRODID:-//Tukios.com/
BEGIN:VEVENT
UID:4e30e85c-754b-4841-86b2-c7cf5384d1f6@www.cataldofuneralhome.com
DTSTAMP:20260421T225531Z
DTSTART:20260429T153000Z
DTEND:20260429T163000Z
SUMMARY:Memorial Service
DESCRIPTION:
URL:https://www.cataldofuneralhome.com/obituaries/barbara-stubbs
LOCATION: 885 Maben Ave  Garner IA 50438
GEO:43.0971224;-93.6003338
END:VEVENT
END:VCALENDAR