BEGIN:VCALENDAR
VERSION:2.0
PRODID:-//Tukios.com/
BEGIN:VEVENT
UID:eb8459a3-82d0-4036-a4d4-0661c4e4c39a@www.cataldofuneralhome.com
DTSTAMP:20260421T082440Z
DTSTART:20260421T210000Z
DTEND:20260422T000000Z
SUMMARY:Visitation
DESCRIPTION:
URL:https://www.cataldofuneralhome.com/obituaries/missy-huling
LOCATION: 160 E. 4th St  Garner IA 50438
GEO:43.1015863;-93.6012578
END:VEVENT
END:VCALENDAR