BEGIN:VCALENDAR
VERSION:2.0
PRODID:-//Tukios.com/
BEGIN:VEVENT
UID:9f20b1c2-335b-4318-a140-36914db99825@www.cataldofuneralhome.com
DTSTAMP:20260421T082824Z
DTSTART:20260422T153000Z
DTEND:20260422T163000Z
SUMMARY:Memorial Service
DESCRIPTION:
URL:https://www.cataldofuneralhome.com/obituaries/missy-huling
LOCATION:St Paul Lutheran Church 810 State St  Garner IA 50438
GEO:43.0975051;-93.6026189
END:VEVENT
END:VCALENDAR